BEGIN:VCALENDAR
VERSION:2.0
PRODID:-//Guy Chapman Art - ECPv6.15.20//NONSGML v1.0//EN
CALSCALE:GREGORIAN
METHOD:PUBLISH
X-WR-CALNAME:Guy Chapman Art
X-ORIGINAL-URL:https://guychapman.co.uk
X-WR-CALDESC:Events for Guy Chapman Art
REFRESH-INTERVAL;VALUE=DURATION:PT1H
X-Robots-Tag:noindex
X-PUBLISHED-TTL:PT1H
BEGIN:VTIMEZONE
TZID:UTC
BEGIN:STANDARD
TZOFFSETFROM:+0000
TZOFFSETTO:+0000
TZNAME:UTC
DTSTART:20250101T000000
END:STANDARD
END:VTIMEZONE
BEGIN:VEVENT
DTSTART;TZID=UTC:20260220T100000
DTEND;TZID=UTC:20260503T170000
DTSTAMP:20260426T033838
CREATED:20260222T193118Z
LAST-MODIFIED:20260223T193148Z
UID:3780-1771581600-1777827600@guychapman.co.uk
SUMMARY:Leamington Open 26
DESCRIPTION:Exhibition Dates: 20 February – 3 May \nLocation: Royal Pump Rooms
URL:https://guychapman.co.uk/event/leamington-open-26/
LOCATION:Leamington Spa Art Gallery & Museum\, Leamington Library Royal Pump Rooms Parade\, Leamington Spa\, CV32 4AA\, United Kingdom
ATTACH;FMTTYPE=image/jpeg:https://guychapman.co.uk/wp-content/uploads/2026/02/Picture1-e1771872362731.jpg
END:VEVENT
BEGIN:VEVENT
DTSTART;TZID=UTC:20260507T100000
DTEND;TZID=UTC:20260510T170000
DTSTAMP:20260426T033838
CREATED:20260415T142722Z
LAST-MODIFIED:20260415T151623Z
UID:3821-1778148000-1778432400@guychapman.co.uk
SUMMARY:RHS Malvern Spring Show
DESCRIPTION:Exhibition Dates: 7th May – 10th May \nLocation: Bay 2 Wye Hall\, Malvern
URL:https://guychapman.co.uk/event/rhs-malvern-spring-show-2026/
LOCATION:RHS Malvern\, Three Counties Showground Malvern\, Worcestershire WR13 6NW UK\, WR13 6NW\, United Kingdom
ATTACH;FMTTYPE=image/jpeg:https://guychapman.co.uk/wp-content/uploads/2026/04/Untitled-design-2026-04-15T152552.074.jpg
END:VEVENT
BEGIN:VEVENT
DTSTART;TZID=UTC:20260618T100000
DTEND;TZID=UTC:20260801T170000
DTSTAMP:20260426T033838
CREATED:20260415T143316Z
LAST-MODIFIED:20260420T163824Z
UID:3825-1781776800-1785603600@guychapman.co.uk
SUMMARY:RBSA Summer Show
DESCRIPTION:Exhibition Dates: 18th June – 1st August\, 2026 \nLocation: 4 Brook Street\, St. Paul’s Square\, Birmingham\, B3 1SA
URL:https://guychapman.co.uk/event/rbsa-annual-exhibition-2026/
LOCATION:RBSA\, 4 Brook Street St. Paul’s\, Birmingham\, B3 1SA\, United Kingdom
ATTACH;FMTTYPE=image/png:https://guychapman.co.uk/wp-content/uploads/2026/04/Untitled-design-2026-04-20T173756.496.png
END:VEVENT
BEGIN:VEVENT
DTSTART;TZID=UTC:20260801T100000
DTEND;TZID=UTC:20260802T170000
DTSTAMP:20260426T033838
CREATED:20260415T143509Z
LAST-MODIFIED:20260415T151110Z
UID:3827-1785578400-1785690000@guychapman.co.uk
SUMMARY:Art in the Park Leamington
DESCRIPTION:Exhibition Dates: 1 August – 2 August\, 2026 \nLocation: Jephson Gardens\, Leamington Spa
URL:https://guychapman.co.uk/event/art-in-the-park-leamington-2026/
LOCATION:Jephson Gardens\, Newbold Terrace\, Leamington Spa\, CV32 4AA\, United Kingdom
ATTACH;FMTTYPE=image/jpeg:https://guychapman.co.uk/wp-content/uploads/2025/04/Untitled-design-78.jpg
END:VEVENT
BEGIN:VEVENT
DTSTART;TZID=UTC:20260925T100000
DTEND;TZID=UTC:20260927T170000
DTSTAMP:20260426T033838
CREATED:20260415T144337Z
LAST-MODIFIED:20260415T151004Z
UID:3829-1790330400-1790528400@guychapman.co.uk
SUMMARY:RHS Malvern Autumn Show
DESCRIPTION:Exhibition Dates: 25th September – 27th September\, 2026 \nLocation: Bay 2 Wye Hall\, Malvern
URL:https://guychapman.co.uk/event/rhs-malvern-autumn-show/
LOCATION:RHS Malvern\, Three Counties Showground Malvern\, Worcestershire WR13 6NW UK\, WR13 6NW\, United Kingdom
ATTACH;FMTTYPE=image/jpeg:https://guychapman.co.uk/wp-content/uploads/2026/04/Untitled-design-2026-04-15T154158.217.jpg
END:VEVENT
BEGIN:VEVENT
DTSTART;TZID=UTC:20261016T100000
DTEND;TZID=UTC:20261018T170000
DTSTAMP:20260426T033838
CREATED:20260415T150351Z
LAST-MODIFIED:20260415T150930Z
UID:3842-1792144800-1792342800@guychapman.co.uk
SUMMARY:Batsford Arboretum
DESCRIPTION:Exhibition Dates: 16th – 18th October\, 2026 \nLocation: Batsford\, Moreton-in-Marsh GL56 9AT\, Wooden Education Centre
URL:https://guychapman.co.uk/event/batsford-arboretum/
LOCATION:Batsford Arboretum\, Batsford\, Moreton-in-Marsh\, Batsford\, Gloucestershire\, GL56 9AT\, United Kingdom
ATTACH;FMTTYPE=image/jpeg:https://guychapman.co.uk/wp-content/uploads/2026/04/Untitled-design-2026-04-15T160212.999.jpg
END:VEVENT
BEGIN:VEVENT
DTSTART;TZID=UTC:20261020T100000
DTEND;TZID=UTC:20261115T170000
DTSTAMP:20260426T033838
CREATED:20260415T144950Z
LAST-MODIFIED:20260415T163323Z
UID:3833-1792490400-1794762000@guychapman.co.uk
SUMMARY:Nature in Art - 'Wild'
DESCRIPTION:Exhibition Dates: 20 October – 15 November\, 2026 \nLocation: Wallsworth Hall\, Sandhurst\, Gloucester\, GL2 9PA
URL:https://guychapman.co.uk/event/nature-in-art-wild/
LOCATION:Wallsworth Hall\, Wallsworth Hall\, Sandhurst\, Gloucester\, GL2 9PA\, United Kingdom
ATTACH;FMTTYPE=image/jpeg:https://guychapman.co.uk/wp-content/uploads/2025/10/Untitled-design-2025-10-09T173400.599.jpg
END:VEVENT
BEGIN:VEVENT
DTSTART;TZID=UTC:20261030T100000
DTEND;TZID=UTC:20261101T170000
DTSTAMP:20260426T033838
CREATED:20260415T150539Z
LAST-MODIFIED:20260415T150815Z
UID:3847-1793354400-1793552400@guychapman.co.uk
SUMMARY:Batsford Arboretum
DESCRIPTION:Exhibition Dates: 30th October – 1st November\, 2026 \nLocation: Batsford\, Moreton-in-Marsh GL56 9AT\, Wooden Education Centre
URL:https://guychapman.co.uk/event/batsford-arboretum-2/
LOCATION:Batsford Arboretum\, Batsford\, Moreton-in-Marsh\, Batsford\, Gloucestershire\, GL56 9AT\, United Kingdom
ATTACH;FMTTYPE=image/jpeg:https://guychapman.co.uk/wp-content/uploads/2026/04/Untitled-design-2026-04-15T160212.999.jpg
END:VEVENT
END:VCALENDAR